1.0000000000
0.0000000000
0.0000000000
-1.0000000000
712338.5000000000
4639537.5000000000
