1.0000000000
0.0000000000
0.0000000000
-1.0000000000
707152.5000000000
4639380.5000000000
