1.0000000000
0.0000000000
0.0000000000
-1.0000000000
707354.5000000000
4632440.5000000000
