1.0000000000
0.0000000000
0.0000000000
-1.0000000000
722712.5000000000
4639862.5000000000
