1.0000000000
0.0000000000
0.0000000000
-1.0000000000
717525.5000000000
4639697.5000000000
