1.0000000000
0.0000000000
0.0000000000
-1.0000000000
722929.5000000000
4632922.5000000000
