1.0000000000
0.0000000000
0.0000000000
-1.0000000000
733086.5000000000
4640202.5000000000
