1.0000000000
0.0000000000
0.0000000000
-1.0000000000
727899.5000000000
4640030.5000000000
