1.0000000000
0.0000000000
0.0000000000
-1.0000000000
733313.5000000000
4633262.5000000000
