1.0000000000
0.0000000000
0.0000000000
-1.0000000000
728121.5000000000
4633090.5000000000
