1.0000000000
0.0000000000
0.0000000000
-1.0000000000
743460.5000000000
4640557.5000000000
