1.0000000000
0.0000000000
0.0000000000
-1.0000000000
743697.5000000000
4633617.5000000000
