1.0000000000
0.0000000000
0.0000000000
-1.0000000000
738505.5000000000
4633437.5000000000
