1.0000000000
0.0000000000
0.0000000000
-1.0000000000
671178.5000000000
4624509.5000000000
