1.0000000000
0.0000000000
0.0000000000
-1.0000000000
665981.5000000000
4624383.5000000000
