1.0000000000
0.0000000000
0.0000000000
-1.0000000000
666143.5000000000
4617443.5000000000
