1.0000000000
0.0000000000
0.0000000000
-1.0000000000
681572.5000000000
4624774.5000000000
