1.0000000000
0.0000000000
0.0000000000
-1.0000000000
681748.5000000000
4617834.5000000000
