1.0000000000
0.0000000000
0.0000000000
-1.0000000000
676546.5000000000
4617700.5000000000
