1.0000000000
0.0000000000
0.0000000000
-1.0000000000
686950.5000000000
4617972.5000000000
