1.0000000000
0.0000000000
0.0000000000
-1.0000000000
697162.5000000000
4625198.5000000000
