1.0000000000
0.0000000000
0.0000000000
-1.0000000000
702555.5000000000
4618408.5000000000
