1.0000000000
0.0000000000
0.0000000000
-1.0000000000
707556.5000000000
4625500.5000000000
