1.0000000000
0.0000000000
0.0000000000
-1.0000000000
707757.5000000000
4618560.5000000000
