1.0000000000
0.0000000000
0.0000000000
-1.0000000000
723363.5000000000
4619042.5000000000
