1.0000000000
0.0000000000
0.0000000000
-1.0000000000
718161.5000000000
4618878.5000000000
