1.0000000000
0.0000000000
0.0000000000
-1.0000000000
728343.5000000000
4626150.5000000000
