1.0000000000
0.0000000000
0.0000000000
-1.0000000000
728565.5000000000
4619210.5000000000
