1.0000000000
0.0000000000
0.0000000000
-1.0000000000
743934.5000000000
4626677.5000000000
