1.0000000000
0.0000000000
0.0000000000
-1.0000000000
738737.5000000000
4626497.5000000000
