1.0000000000
0.0000000000
0.0000000000
-1.0000000000
744171.5000000000
4619737.5000000000
