1.0000000000
0.0000000000
0.0000000000
-1.0000000000
671510.5000000000
4610630.5000000000
