1.0000000000
0.0000000000
0.0000000000
-1.0000000000
671676.5000000000
4603690.5000000000
