1.0000000000
0.0000000000
0.0000000000
-1.0000000000
582514.5000000000
4650630.5000000000
