1.0000000000
0.0000000000
0.0000000000
-1.0000000000
587776.5000000000
4643757.5000000000
