1.0000000000
0.0000000000
0.0000000000
-1.0000000000
582595.5000000000
4643691.5000000000
