1.0000000000
0.0000000000
0.0000000000
-1.0000000000
592866.5000000000
4650766.5000000000
