1.0000000000
0.0000000000
0.0000000000
-1.0000000000
598138.5000000000
4643900.5000000000
