1.0000000000
0.0000000000
0.0000000000
-1.0000000000
608395.5000000000
4650999.5000000000
