1.0000000000
0.0000000000
0.0000000000
-1.0000000000
603218.5000000000
4650917.5000000000
