1.0000000000
0.0000000000
0.0000000000
-1.0000000000
603320.5000000000
4643978.5000000000
