1.0000000000
0.0000000000
0.0000000000
-1.0000000000
613571.5000000000
4651084.5000000000
