1.0000000000
0.0000000000
0.0000000000
-1.0000000000
618864.5000000000
4644233.5000000000
