1.0000000000
0.0000000000
0.0000000000
-1.0000000000
629100.5000000000
4651362.5000000000
