1.0000000000
0.0000000000
0.0000000000
-1.0000000000
623923.5000000000
4651265.5000000000
