1.0000000000
0.0000000000
0.0000000000
-1.0000000000
629226.5000000000
4644422.5000000000
