1.0000000000
0.0000000000
0.0000000000
-1.0000000000
639452.5000000000
4651566.5000000000
