1.0000000000
0.0000000000
0.0000000000
-1.0000000000
634408.5000000000
4644522.5000000000
