1.0000000000
0.0000000000
0.0000000000
-1.0000000000
649805.5000000000
4651785.5000000000
