1.0000000000
0.0000000000
0.0000000000
-1.0000000000
644771.5000000000
4644734.5000000000
